BEGIN:VCALENDAR
METHOD:PUBLISH
VERSION:2.0
CALSCALE:GREGORIAN
PRODID:-//NONSGML WPForms//NONSGML Sugar Calendar Feeds v3.11.0//EN
X-WR-CALNAME:Audrey's Angels
X-WR-CALDESC:Benevilla
X-WR-TIMEZONE:UTC
BEGIN:VTIMEZONE
TZID:UTC
BEGIN:STANDARD
TZOFFSETFROM:+0000
TZOFFSETTO:+0000
DTSTART:20250819T010000
TZNAME:UTC
END:STANDARD
END:VTIMEZONE
BEGIN:VTIMEZONE
TZID:UTC
BEGIN:STANDARD
TZOFFSETFROM:+0000
TZOFFSETTO:+0000
DTSTART:20250819T010000
TZNAME:UTC
END:STANDARD
END:VTIMEZONE
BEGIN:VEVENT
SUMMARY:Audrey's Angels
DESCRIPTION:
URL;VALUE=URI:https://benevilla.org/events/audreys-angels/
UID:urn:uuid:8e433345-6592-4bb6-ba9e-fdfed8cc9bd6
STATUS:CONFIRMED
ORGANIZER:
DTSTAMP:20260420T094607Z
DTSTART;TZID=UTC:20260217T130000
DTEND;TZID=UTC:20260217T150000
END:VEVENT
END:VCALENDAR