BEGIN:VCALENDAR
METHOD:PUBLISH
VERSION:2.0
CALSCALE:GREGORIAN
PRODID:-//NONSGML WPForms//NONSGML Sugar Calendar Feeds v3.11.0//EN
X-WR-CALNAME:Benefitness Exercise
X-WR-CALDESC:Benevilla
X-WR-TIMEZONE:UTC
BEGIN:VTIMEZONE
TZID:UTC
BEGIN:STANDARD
TZOFFSETFROM:+0000
TZOFFSETTO:+0000
DTSTART:20250812T220000
TZNAME:UTC
END:STANDARD
END:VTIMEZONE
BEGIN:VTIMEZONE
TZID:America/Phoenix
BEGIN:STANDARD
TZOFFSETFROM:-0700
TZOFFSETTO:-0700
DTSTART:20250812T220000
TZNAME:MST
END:STANDARD
END:VTIMEZONE
BEGIN:VEVENT
SUMMARY:Benefitness Exercise
DESCRIPTION:
URL;VALUE=URI:https://benevilla.org/events/benefitness-exercise-2/
UID:urn:uuid:5a89c6b5-b886-43c5-a8a8-defafed7b013
STATUS:CONFIRMED
ORGANIZER:
DTSTAMP:20260420T120638Z
DTSTART;TZID=America/Phoenix:20260211T100000
DTEND;TZID=America/Phoenix:20260211T110000
END:VEVENT
END:VCALENDAR