BEGIN:VCALENDAR
METHOD:PUBLISH
VERSION:2.0
CALSCALE:GREGORIAN
PRODID:-//NONSGML WPForms//NONSGML Sugar Calendar Feeds v3.11.0//EN
X-WR-CALNAME:Benefitness Exercise
X-WR-CALDESC:Benevilla
X-WR-TIMEZONE:UTC
BEGIN:VTIMEZONE
TZID:UTC
BEGIN:STANDARD
TZOFFSETFROM:+0000
TZOFFSETTO:+0000
DTSTART:20250826T220000
TZNAME:UTC
END:STANDARD
END:VTIMEZONE
BEGIN:VTIMEZONE
TZID:America/Phoenix
BEGIN:STANDARD
TZOFFSETFROM:-0700
TZOFFSETTO:-0700
DTSTART:20250826T220000
TZNAME:MST
END:STANDARD
END:VTIMEZONE
BEGIN:VEVENT
SUMMARY:Benefitness Exercise
DESCRIPTION:
URL;VALUE=URI:https://benevilla.org/events/benefitness-exercise-3/
UID:urn:uuid:ac4c9097-d8ac-43a6-8934-4d1b698901a5
STATUS:CONFIRMED
ORGANIZER:
DTSTAMP:20260421T094433Z
DTSTART;TZID=America/Phoenix:20260225T100000
DTEND;TZID=America/Phoenix:20260225T110000
END:VEVENT
END:VCALENDAR