BEGIN:VCALENDAR
METHOD:PUBLISH
VERSION:2.0
CALSCALE:GREGORIAN
PRODID:-//NONSGML WPForms//NONSGML Sugar Calendar Feeds v3.11.0//EN
X-WR-CALNAME:Chair Zumba with Sharon
X-WR-CALDESC:Benevilla
X-WR-TIMEZONE:UTC
BEGIN:VTIMEZONE
TZID:UTC
BEGIN:STANDARD
TZOFFSETFROM:+0000
TZOFFSETTO:+0000
DTSTART:20250804T230000
TZNAME:UTC
END:STANDARD
END:VTIMEZONE
BEGIN:VTIMEZONE
TZID:UTC
BEGIN:STANDARD
TZOFFSETFROM:+0000
TZOFFSETTO:+0000
DTSTART:20250804T230000
TZNAME:UTC
END:STANDARD
END:VTIMEZONE
BEGIN:VEVENT
SUMMARY:Chair Zumba with Sharon
DESCRIPTION:
URL;VALUE=URI:https://benevilla.org/events/chair-zumba-with-sharon/
UID:urn:uuid:66d9c507-9bca-4a89-91fb-90354e0ef963
STATUS:CONFIRMED
ORGANIZER:
DTSTAMP:20260419T123624Z
DTSTART;TZID=UTC:20260203T110000
DTEND;TZID=UTC:20260203T120000
END:VEVENT
END:VCALENDAR