BEGIN:VCALENDAR
METHOD:PUBLISH
VERSION:2.0
CALSCALE:GREGORIAN
PRODID:-//NONSGML WPForms//NONSGML Sugar Calendar Feeds v3.11.0//EN
X-WR-CALNAME:Cherry's Class
X-WR-CALDESC:Benevilla
X-WR-TIMEZONE:UTC
BEGIN:VTIMEZONE
TZID:UTC
BEGIN:STANDARD
TZOFFSETFROM:+0000
TZOFFSETTO:+0000
DTSTART:20200211T230000
TZNAME:UTC
END:STANDARD
END:VTIMEZONE
BEGIN:VTIMEZONE
TZID:UTC
BEGIN:STANDARD
TZOFFSETFROM:+0000
TZOFFSETTO:+0000
DTSTART:20200211T230000
TZNAME:UTC
END:STANDARD
END:VTIMEZONE
BEGIN:VEVENT
SUMMARY:Cherry's Class
DESCRIPTION:
URL;VALUE=URI:https://benevilla.org/events/cherrys-class/
UID:urn:uuid:8f35653e-dae1-422b-97c0-20b0138f6802
STATUS:CONFIRMED
ORGANIZER:
DTSTAMP:20260420T094500Z
DTSTART;TZID=UTC:20200812T110000
DTEND;TZID=UTC:20200812T120000
END:VEVENT
END:VCALENDAR