BEGIN:VCALENDAR
METHOD:PUBLISH
VERSION:2.0
CALSCALE:GREGORIAN
PRODID:-//NONSGML WPForms//NONSGML Sugar Calendar Feeds v3.11.0//EN
X-WR-CALNAME:CHERRY'S GROUP
X-WR-CALDESC:Benevilla
X-WR-TIMEZONE:UTC
BEGIN:VTIMEZONE
TZID:UTC
BEGIN:STANDARD
TZOFFSETFROM:+0000
TZOFFSETTO:+0000
DTSTART:20200213T230000
TZNAME:UTC
END:STANDARD
END:VTIMEZONE
BEGIN:VTIMEZONE
TZID:UTC
BEGIN:STANDARD
TZOFFSETFROM:+0000
TZOFFSETTO:+0000
DTSTART:20200213T230000
TZNAME:UTC
END:STANDARD
END:VTIMEZONE
BEGIN:VEVENT
SUMMARY:CHERRY'S GROUP
DESCRIPTION:
URL;VALUE=URI:https://benevilla.org/events/cherrys-group-5/
UID:urn:uuid:1ba0c0a2-ce10-4b11-9fee-9bcae2d9cd35
STATUS:CONFIRMED
ORGANIZER:
DTSTAMP:20260422T081208Z
DTSTART;TZID=UTC:20200814T110000
DTEND;TZID=UTC:20200814T120000
END:VEVENT
END:VCALENDAR