BEGIN:VCALENDAR
METHOD:PUBLISH
VERSION:2.0
CALSCALE:GREGORIAN
PRODID:-//NONSGML WPForms//NONSGML Sugar Calendar Feeds v3.11.0//EN
X-WR-CALNAME:CHERRY’S GROUP
X-WR-CALDESC:Benevilla
X-WR-TIMEZONE:UTC
BEGIN:VTIMEZONE
TZID:UTC
BEGIN:STANDARD
TZOFFSETFROM:+0000
TZOFFSETTO:+0000
DTSTART:20200206T230000
TZNAME:UTC
END:STANDARD
END:VTIMEZONE
BEGIN:VTIMEZONE
TZID:UTC
BEGIN:STANDARD
TZOFFSETFROM:+0000
TZOFFSETTO:+0000
DTSTART:20200206T230000
TZNAME:UTC
END:STANDARD
END:VTIMEZONE
BEGIN:VEVENT
SUMMARY:CHERRY’S GROUP
DESCRIPTION:
URL;VALUE=URI:https://benevilla.org/events/cherrys-group-6/
UID:urn:uuid:2a398617-085e-47f1-8448-b8d58093962f
STATUS:CONFIRMED
ORGANIZER:
DTSTAMP:20260422T081158Z
DTSTART;TZID=UTC:20200807T110000
DTEND;TZID=UTC:20200807T120000
END:VEVENT
END:VCALENDAR