BEGIN:VCALENDAR
METHOD:PUBLISH
VERSION:2.0
CALSCALE:GREGORIAN
PRODID:-//NONSGML WPForms//NONSGML Sugar Calendar Feeds v3.11.0//EN
X-WR-CALNAME:Chocolate Social
X-WR-CALDESC:Benevilla
X-WR-TIMEZONE:UTC
BEGIN:VTIMEZONE
TZID:UTC
BEGIN:STANDARD
TZOFFSETFROM:+0000
TZOFFSETTO:+0000
DTSTART:20250814T120000
TZNAME:UTC
END:STANDARD
END:VTIMEZONE
BEGIN:VTIMEZONE
TZID:UTC
BEGIN:STANDARD
TZOFFSETFROM:+0000
TZOFFSETTO:+0000
DTSTART:20250814T120000
TZNAME:UTC
END:STANDARD
END:VTIMEZONE
BEGIN:VEVENT
SUMMARY:Chocolate Social
DESCRIPTION:
URL;VALUE=URI:https://benevilla.org/events/chocolate-social/
UID:urn:uuid:e81328f4-745a-47a5-82fd-30be8554fdb4
STATUS:CONFIRMED
ORGANIZER:
DTSTAMP:20260420T083207Z
DTSTART;VALUE=DATE:20260213
END:VEVENT
END:VCALENDAR