BEGIN:VCALENDAR
METHOD:PUBLISH
VERSION:2.0
CALSCALE:GREGORIAN
PRODID:-//NONSGML WPForms//NONSGML Sugar Calendar Feeds v3.11.0//EN
X-WR-CALNAME:CHURCH @ CACTUS FELLOWSHIP WITH PASTOR KATHY
X-WR-CALDESC:Benevilla
X-WR-TIMEZONE:UTC
BEGIN:VTIMEZONE
TZID:UTC
BEGIN:STANDARD
TZOFFSETFROM:+0000
TZOFFSETTO:+0000
DTSTART:20200122T210000
TZNAME:UTC
END:STANDARD
END:VTIMEZONE
BEGIN:VTIMEZONE
TZID:UTC
BEGIN:STANDARD
TZOFFSETFROM:+0000
TZOFFSETTO:+0000
DTSTART:20200122T210000
TZNAME:UTC
END:STANDARD
END:VTIMEZONE
BEGIN:VEVENT
SUMMARY:CHURCH @ CACTUS FELLOWSHIP WITH PASTOR KATHY
DESCRIPTION:
URL;VALUE=URI:https://benevilla.org/events/church-cactus-fellowship-with
 -pastor-kathy/
UID:urn:uuid:e3ef1813-9ca0-4fd1-b867-94d5d5b374ae
STATUS:CONFIRMED
ORGANIZER:
DTSTAMP:20260421T095630Z
DTSTART;TZID=UTC:20200723T090000
DTEND;TZID=UTC:20200723T100000
END:VEVENT
END:VCALENDAR