BEGIN:VCALENDAR
METHOD:PUBLISH
VERSION:2.0
CALSCALE:GREGORIAN
PRODID:-//NONSGML WPForms//NONSGML Sugar Calendar Feeds v3.11.0//EN
X-WR-CALNAME:Culinary Arts with Chef Michael
X-WR-CALDESC:Benevilla
X-WR-TIMEZONE:UTC
BEGIN:VTIMEZONE
TZID:UTC
BEGIN:STANDARD
TZOFFSETFROM:+0000
TZOFFSETTO:+0000
DTSTART:20250821T030000
TZNAME:UTC
END:STANDARD
END:VTIMEZONE
BEGIN:VTIMEZONE
TZID:America/Phoenix
BEGIN:STANDARD
TZOFFSETFROM:-0700
TZOFFSETTO:-0700
DTSTART:20250821T030000
TZNAME:MST
END:STANDARD
END:VTIMEZONE
BEGIN:VEVENT
SUMMARY:Culinary Arts with Chef Michael
DESCRIPTION:
URL;VALUE=URI:https://benevilla.org/events/culinary-arts-with-chef-micha
 el-2/
UID:urn:uuid:b8765c52-9609-41f0-8255-7148910369c2
STATUS:CONFIRMED
ORGANIZER:
DTSTAMP:20260422T082259Z
DTSTART;TZID=America/Phoenix:20260219T150000
DTEND;TZID=America/Phoenix:20260219T170000
END:VEVENT
END:VCALENDAR