BEGIN:VCALENDAR
METHOD:PUBLISH
VERSION:2.0
CALSCALE:GREGORIAN
PRODID:-//NONSGML WPForms//NONSGML Sugar Calendar Feeds v3.11.0//EN
X-WR-CALNAME:Culinary Arts with Chef Michael
X-WR-CALDESC:Benevilla
X-WR-TIMEZONE:UTC
BEGIN:VTIMEZONE
TZID:UTC
BEGIN:STANDARD
TZOFFSETFROM:+0000
TZOFFSETTO:+0000
DTSTART:20250814T030000
TZNAME:UTC
END:STANDARD
END:VTIMEZONE
BEGIN:VTIMEZONE
TZID:UTC
BEGIN:STANDARD
TZOFFSETFROM:+0000
TZOFFSETTO:+0000
DTSTART:20250814T030000
TZNAME:UTC
END:STANDARD
END:VTIMEZONE
BEGIN:VEVENT
SUMMARY:Culinary Arts with Chef Michael
DESCRIPTION:
URL;VALUE=URI:https://benevilla.org/events/culinary-arts-with-chef-micha
 el/
UID:urn:uuid:6edd9533-1849-4c70-a6a4-3078e9e42622
STATUS:CONFIRMED
ORGANIZER:
DTSTAMP:20260420T111136Z
DTSTART;TZID=UTC:20260212T150000
DTEND;TZID=UTC:20260212T170000
END:VEVENT
END:VCALENDAR