BEGIN:VCALENDAR
METHOD:PUBLISH
VERSION:2.0
CALSCALE:GREGORIAN
PRODID:-//NONSGML WPForms//NONSGML Sugar Calendar Feeds v3.11.0//EN
X-WR-CALNAME:Cupid's Cocktail Hour
X-WR-CALDESC:Benevilla
X-WR-TIMEZONE:UTC
BEGIN:VTIMEZONE
TZID:UTC
BEGIN:STANDARD
TZOFFSETFROM:+0000
TZOFFSETTO:+0000
DTSTART:20250815T010000
TZNAME:UTC
END:STANDARD
END:VTIMEZONE
BEGIN:VTIMEZONE
TZID:America/Phoenix
BEGIN:STANDARD
TZOFFSETFROM:-0700
TZOFFSETTO:-0700
DTSTART:20250815T010000
TZNAME:MST
END:STANDARD
END:VTIMEZONE
BEGIN:VEVENT
SUMMARY:Cupid's Cocktail Hour
DESCRIPTION:
URL;VALUE=URI:https://benevilla.org/events/cupids-cocktail-hour/
UID:urn:uuid:b498b6e5-4e70-4193-9d30-548a7475f900
STATUS:CONFIRMED
ORGANIZER:
DTSTAMP:20260422T081426Z
DTSTART;TZID=America/Phoenix:20260213T130000
DTEND;TZID=America/Phoenix:20260213T140000
END:VEVENT
END:VCALENDAR