BEGIN:VCALENDAR
METHOD:PUBLISH
VERSION:2.0
CALSCALE:GREGORIAN
PRODID:-//NONSGML WPForms//NONSGML Sugar Calendar Feeds v3.11.0//EN
X-WR-CALNAME:Drumming Circles
X-WR-CALDESC:Benevilla
X-WR-TIMEZONE:UTC
BEGIN:VTIMEZONE
TZID:UTC
BEGIN:STANDARD
TZOFFSETFROM:+0000
TZOFFSETTO:+0000
DTSTART:20250811T220000
TZNAME:UTC
END:STANDARD
END:VTIMEZONE
BEGIN:VTIMEZONE
TZID:UTC
BEGIN:STANDARD
TZOFFSETFROM:+0000
TZOFFSETTO:+0000
DTSTART:20250811T220000
TZNAME:UTC
END:STANDARD
END:VTIMEZONE
BEGIN:VEVENT
SUMMARY:Drumming Circles
DESCRIPTION:
URL;VALUE=URI:https://benevilla.org/events/drumming-circles/
UID:urn:uuid:4d9c21d5-3378-4323-9c3a-40b5115f98f9
STATUS:CONFIRMED
ORGANIZER:
DTSTAMP:20260419T133247Z
DTSTART;TZID=UTC:20260210T100000
DTEND;TZID=UTC:20260210T110000
END:VEVENT
END:VCALENDAR