BEGIN:VCALENDAR
METHOD:PUBLISH
VERSION:2.0
CALSCALE:GREGORIAN
PRODID:-//NONSGML WPForms//NONSGML Sugar Calendar Feeds v3.11.0//EN
X-WR-CALNAME:Grab Bag Bingo
X-WR-CALDESC:Benevilla
X-WR-TIMEZONE:UTC
BEGIN:VTIMEZONE
TZID:UTC
BEGIN:STANDARD
TZOFFSETFROM:+0000
TZOFFSETTO:+0000
DTSTART:20250811T010000
TZNAME:UTC
END:STANDARD
END:VTIMEZONE
BEGIN:VTIMEZONE
TZID:UTC
BEGIN:STANDARD
TZOFFSETFROM:+0000
TZOFFSETTO:+0000
DTSTART:20250811T010000
TZNAME:UTC
END:STANDARD
END:VTIMEZONE
BEGIN:VEVENT
SUMMARY:Grab Bag Bingo
DESCRIPTION:
URL;VALUE=URI:https://benevilla.org/events/grab-bag-bingo/
UID:urn:uuid:3ffde52d-f3d6-4217-890e-d5d5e1a06d5e
STATUS:CONFIRMED
ORGANIZER:
DTSTAMP:20260422T082411Z
DTSTART;TZID=UTC:20260209T130000
DTEND;TZID=UTC:20260209T140000
END:VEVENT
END:VCALENDAR