BEGIN:VCALENDAR
METHOD:PUBLISH
VERSION:2.0
CALSCALE:GREGORIAN
PRODID:-//NONSGML WPForms//NONSGML Sugar Calendar Feeds v3.11.0//EN
X-WR-CALNAME:Groundhog Day Predictions
X-WR-CALDESC:Benevilla
X-WR-TIMEZONE:UTC
BEGIN:VTIMEZONE
TZID:UTC
BEGIN:STANDARD
TZOFFSETFROM:+0000
TZOFFSETTO:+0000
DTSTART:20250803T120000
TZNAME:UTC
END:STANDARD
END:VTIMEZONE
BEGIN:VTIMEZONE
TZID:UTC
BEGIN:STANDARD
TZOFFSETFROM:+0000
TZOFFSETTO:+0000
DTSTART:20250803T120000
TZNAME:UTC
END:STANDARD
END:VTIMEZONE
BEGIN:VEVENT
SUMMARY:Groundhog Day Predictions
DESCRIPTION:
URL;VALUE=URI:https://benevilla.org/events/groundhog-day-predictions/
UID:urn:uuid:81210d61-b1c1-4949-83fd-8efae5614490
STATUS:CONFIRMED
ORGANIZER:
DTSTAMP:20260420T120814Z
DTSTART;VALUE=DATE:20260202
END:VEVENT
END:VCALENDAR