BEGIN:VCALENDAR
METHOD:PUBLISH
VERSION:2.0
CALSCALE:GREGORIAN
PRODID:-//NONSGML WPForms//NONSGML Sugar Calendar Feeds v3.11.0//EN
X-WR-CALNAME:Intergenerational Yoga
X-WR-CALDESC:Benevilla
X-WR-TIMEZONE:UTC
BEGIN:VTIMEZONE
TZID:UTC
BEGIN:STANDARD
TZOFFSETFROM:+0000
TZOFFSETTO:+0000
DTSTART:20250821T220000
TZNAME:UTC
END:STANDARD
END:VTIMEZONE
BEGIN:VTIMEZONE
TZID:UTC
BEGIN:STANDARD
TZOFFSETFROM:+0000
TZOFFSETTO:+0000
DTSTART:20250821T220000
TZNAME:UTC
END:STANDARD
END:VTIMEZONE
BEGIN:VEVENT
SUMMARY:Intergenerational Yoga
DESCRIPTION:
URL;VALUE=URI:https://benevilla.org/events/intergenerational-yoga-2/
UID:urn:uuid:79e97fa3-bb80-4745-9cc9-298481b88636
STATUS:CONFIRMED
ORGANIZER:
DTSTAMP:20260420T082836Z
DTSTART;TZID=UTC:20260220T100000
DTEND;TZID=UTC:20260220T110000
END:VEVENT
END:VCALENDAR