BEGIN:VCALENDAR
METHOD:PUBLISH
VERSION:2.0
CALSCALE:GREGORIAN
PRODID:-//NONSGML WPForms//NONSGML Sugar Calendar Feeds v3.11.0//EN
X-WR-CALNAME:Jersey Day
X-WR-CALDESC:Benevilla
X-WR-TIMEZONE:UTC
BEGIN:VTIMEZONE
TZID:UTC
BEGIN:STANDARD
TZOFFSETFROM:+0000
TZOFFSETTO:+0000
DTSTART:20250807T120000
TZNAME:UTC
END:STANDARD
END:VTIMEZONE
BEGIN:VTIMEZONE
TZID:UTC
BEGIN:STANDARD
TZOFFSETFROM:+0000
TZOFFSETTO:+0000
DTSTART:20250807T120000
TZNAME:UTC
END:STANDARD
END:VTIMEZONE
BEGIN:VEVENT
SUMMARY:Jersey Day
DESCRIPTION:
URL;VALUE=URI:https://benevilla.org/events/jersey-day/
UID:urn:uuid:252d5ff0-e904-4182-8422-0c8f1e1702f9
STATUS:CONFIRMED
ORGANIZER:
DTSTAMP:20260419T135542Z
DTSTART;VALUE=DATE:20260206
END:VEVENT
END:VCALENDAR