BEGIN:VCALENDAR
METHOD:PUBLISH
VERSION:2.0
CALSCALE:GREGORIAN
PRODID:-//NONSGML WPForms//NONSGML Sugar Calendar Feeds v3.11.0//EN
X-WR-CALNAME:Musical Roy
X-WR-CALDESC:Benevilla
X-WR-TIMEZONE:UTC
BEGIN:VTIMEZONE
TZID:UTC
BEGIN:STANDARD
TZOFFSETFROM:+0000
TZOFFSETTO:+0000
DTSTART:20250819T214500
TZNAME:UTC
END:STANDARD
END:VTIMEZONE
BEGIN:VTIMEZONE
TZID:America/Phoenix
BEGIN:STANDARD
TZOFFSETFROM:-0700
TZOFFSETTO:-0700
DTSTART:20250819T214500
TZNAME:MST
END:STANDARD
END:VTIMEZONE
BEGIN:VEVENT
SUMMARY:Musical Roy
DESCRIPTION:
URL;VALUE=URI:https://benevilla.org/events/musical-roy-2/
UID:urn:uuid:8e6d7bf3-2033-4e7d-b6fc-067447ef8fc1
STATUS:CONFIRMED
ORGANIZER:
DTSTAMP:20260420T094727Z
DTSTART;TZID=America/Phoenix:20260218T094500
DTEND;TZID=America/Phoenix:20260218T104500
END:VEVENT
END:VCALENDAR