BEGIN:VCALENDAR
METHOD:PUBLISH
VERSION:2.0
CALSCALE:GREGORIAN
PRODID:-//NONSGML WPForms//NONSGML Sugar Calendar Feeds v3.11.0//EN
X-WR-CALNAME:Roy's Musical Memories
X-WR-CALDESC:Benevilla
X-WR-TIMEZONE:UTC
BEGIN:VTIMEZONE
TZID:UTC
BEGIN:STANDARD
TZOFFSETFROM:+0000
TZOFFSETTO:+0000
DTSTART:20250813T010000
TZNAME:UTC
END:STANDARD
END:VTIMEZONE
BEGIN:VTIMEZONE
TZID:UTC
BEGIN:STANDARD
TZOFFSETFROM:+0000
TZOFFSETTO:+0000
DTSTART:20250813T010000
TZNAME:UTC
END:STANDARD
END:VTIMEZONE
BEGIN:VEVENT
SUMMARY:Roy's Musical Memories
DESCRIPTION:
URL;VALUE=URI:https://benevilla.org/events/roys-musical-memories/
UID:urn:uuid:c42ab2d5-1519-4317-b3cb-5c4890b3838d
STATUS:CONFIRMED
ORGANIZER:
DTSTAMP:20260421T082158Z
DTSTART;TZID=UTC:20260211T130000
DTEND;TZID=UTC:20260211T150000
END:VEVENT
END:VCALENDAR