BEGIN:VCALENDAR
METHOD:PUBLISH
VERSION:2.0
CALSCALE:GREGORIAN
PRODID:-//NONSGML WPForms//NONSGML Sugar Calendar Feeds v3.11.0//EN
X-WR-CALNAME:Sally & Kim Creative Art
X-WR-CALDESC:Benevilla
X-WR-TIMEZONE:UTC
BEGIN:VTIMEZONE
TZID:UTC
BEGIN:STANDARD
TZOFFSETFROM:+0000
TZOFFSETTO:+0000
DTSTART:20250825T220000
TZNAME:UTC
END:STANDARD
END:VTIMEZONE
BEGIN:VTIMEZONE
TZID:America/Phoenix
BEGIN:STANDARD
TZOFFSETFROM:-0700
TZOFFSETTO:-0700
DTSTART:20250825T220000
TZNAME:MST
END:STANDARD
END:VTIMEZONE
BEGIN:VEVENT
SUMMARY:Sally & Kim Creative Art
DESCRIPTION:
URL;VALUE=URI:https://benevilla.org/events/sally-kim-creative-art/
UID:urn:uuid:710708ff-874d-4f9a-9bb0-e438c8ff7b2c
STATUS:CONFIRMED
ORGANIZER:
DTSTAMP:20260421T094049Z
DTSTART;TZID=America/Phoenix:20260224T100000
DTEND;TZID=America/Phoenix:20260224T110000
END:VEVENT
END:VCALENDAR