BEGIN:VCALENDAR
METHOD:PUBLISH
VERSION:2.0
CALSCALE:GREGORIAN
PRODID:-//NONSGML WPForms//NONSGML Sugar Calendar Feeds v3.11.0//EN
X-WR-CALNAME:Sing Along with Ms. Kitty
X-WR-CALDESC:Benevilla
X-WR-TIMEZONE:UTC
BEGIN:VTIMEZONE
TZID:UTC
BEGIN:STANDARD
TZOFFSETFROM:+0000
TZOFFSETTO:+0000
DTSTART:20250829T011500
TZNAME:UTC
END:STANDARD
END:VTIMEZONE
BEGIN:VTIMEZONE
TZID:America/Phoenix
BEGIN:STANDARD
TZOFFSETFROM:-0700
TZOFFSETTO:-0700
DTSTART:20250829T011500
TZNAME:MST
END:STANDARD
END:VTIMEZONE
BEGIN:VEVENT
SUMMARY:Sing Along with Ms. Kitty
DESCRIPTION:
URL;VALUE=URI:https://benevilla.org/events/sing-along-with-ms-kitty/
UID:urn:uuid:d3d8a05f-758e-4dcc-be50-316fdbd9e987
STATUS:CONFIRMED
ORGANIZER:
DTSTAMP:20260422T094830Z
DTSTART;TZID=America/Phoenix:20260227T131500
DTEND;TZID=America/Phoenix:20260227T141500
END:VEVENT
END:VCALENDAR