BEGIN:VCALENDAR
METHOD:PUBLISH
VERSION:2.0
CALSCALE:GREGORIAN
PRODID:-//NONSGML WPForms//NONSGML Sugar Calendar Feeds v3.11.0//EN
X-WR-CALNAME:Sweetheart Tunes by Ken
X-WR-CALDESC:Benevilla
X-WR-TIMEZONE:UTC
BEGIN:VTIMEZONE
TZID:UTC
BEGIN:STANDARD
TZOFFSETFROM:+0000
TZOFFSETTO:+0000
DTSTART:20250815T021500
TZNAME:UTC
END:STANDARD
END:VTIMEZONE
BEGIN:VTIMEZONE
TZID:UTC
BEGIN:STANDARD
TZOFFSETFROM:+0000
TZOFFSETTO:+0000
DTSTART:20250815T021500
TZNAME:UTC
END:STANDARD
END:VTIMEZONE
BEGIN:VEVENT
SUMMARY:Sweetheart Tunes by Ken
DESCRIPTION:
URL;VALUE=URI:https://benevilla.org/events/sweetheart-tunes-by-ken/
UID:urn:uuid:ba01f2f5-b7f4-4804-9b41-86234344255b
STATUS:CONFIRMED
ORGANIZER:
DTSTAMP:20260422T094223Z
DTSTART;TZID=UTC:20260213T141500
DTEND;TZID=UTC:20260213T170000
END:VEVENT
END:VCALENDAR